BEGIN:VCALENDAR
VERSION:2.0
PRODID:-//ChamberMaster//Event Calendar 2.0//EN
METHOD:PUBLISH
X-PUBLISHED-TTL:P1H
REFRESH-INTERVAL:P1H
CALSCALE:GREGORIAN
BEGIN:VTIMEZONE
TZID:America/Chicago
BEGIN:DAYLIGHT
RRULE:FREQ=YEARLY;BYMONTH=3;BYDAY=2SU
DTSTART:20070101T000000
TZOFFSETFROM:-0600
TZOFFSETTO:-0500
TZNAME:Central Daylight Time
END:DAYLIGHT
BEGIN:STANDARD
RRULE:FREQ=YEARLY;BYMONTH=11;BYDAY=1SU
DTSTART:20070101T000000
TZOFFSETFROM:-0500
TZOFFSETTO:-0600
TZNAME:Central Standard Time
END:STANDARD
END:VTIMEZONE
BEGIN:VEVENT
DTSTART;TZID=America/Chicago:20260520T130000
DTEND;TZID=America/Chicago:20260520T140000
X-MICROSOFT-CDO-ALLDAYEVENT:FALSE
SUMMARY:May-Community Involvement Meeting
DESCRIPTION:The Community Involvement Committee is dedicated to fostering meaningful connections between the Southwest Louisiana Association of REALTORS® and the broader community it serves. This committee actively engages in community service activities\, volunteer efforts\, and community events to demonstrate our commitment to the well-being and prosperity of the neighborhoods we serve.\n\nBreast Cancer Awareness Activity\nCan food drive\nSchool supplies drive\nFeeding First Responders\nTrunk-R-Treat\nREALTOR Family Day
X-ALT-DESC;FMTTYPE=text/html:The Community Involvement Committee is dedicated to fostering meaningful connections between the Southwest Louisiana Association of REALTORS® and the broader community it serves. This committee actively engages in community service activities\, volunteer efforts\, and community events to demonstrate our commitment to the well-being and prosperity of the neighborhoods we serve.\n\nBreast Cancer Awareness Activity\nCan food drive\nSchool supplies drive\nFeeding First Responders\nTrunk-R-Treat\nREALTOR Family Day
LOCATION:791 Bayou Pines East Lake Charles LA 70601
UID:e.3738.1444702
SEQUENCE:3
DTSTAMP:20260423T082406Z
URL:https://members.swlar.com/calendar/Details/may-community-involvement-meeting-1711105?sourceTypeId=Hub
END:VEVENT
END:VCALENDAR
